BEGIN:VCALENDAR
VERSION:2.0
PRODID:-//wp-events-plugin.com//6.4.6.4//EN
TZID:Europe/Berlin
X-WR-TIMEZONE:Europe/Berlin
BEGIN:VEVENT
UID:418@ufer-projekte.de
DTSTART;TZID=Europe/Berlin:20210411T094500
DTEND;TZID=Europe/Berlin:20210411T163000
DTSTAMP:20210519T200059Z
URL:https://ufer-projekte.de/veranstaltungen/booking-forever/
SUMMARY:Booking Forever
LOCATION:Online @ Heidestraße\, ggü 21\,  Dresden
X-APPLE-STRUCTURED-LOCATION;VALUE=URI;X-ADDRESS=Heidestraße\, ggü 21\, Dr
 esden\, Deutschland;X-APPLE-RADIUS=100;X-TITLE=Online:geo:0,0
END:VEVENT
BEGIN:VTIMEZONE
TZID:Europe/Berlin
X-LIC-LOCATION:Europe/Berlin
BEGIN:DAYLIGHT
DTSTART:20210328T030000
TZOFFSETFROM:+0100
TZOFFSETTO:+0200
TZNAME:CEST
END:DAYLIGHT
END:VTIMEZONE
END:VCALENDAR