BEGIN:VCALENDAR
VERSION:2.0
PRODID:-//wp-events-plugin.com//6.4.6.4//EN
TZID:Europe/Berlin
X-WR-TIMEZONE:Europe/Berlin
BEGIN:VEVENT
UID:132@ufer-projekte.de
DTSTART;TZID=Europe/Berlin:20210105T151500
DTEND;TZID=Europe/Berlin:20210201T170000
DTSTAMP:20210212T194207Z
URL:https://ufer-projekte.de/veranstaltungen/fetziger-test-fuer-jochen/
SUMMARY:Fetziger Test für Jochen
DESCRIPTION:hbö&lt\;lkxh</p>
CATEGORIES:Einfach Überall Gärtnern
LOCATION:Alte Gärtnerei Pieschen @ Heidestraße\, ggü 21\, 01127 Dresden
GEO:51.083166;13.731081
X-APPLE-STRUCTURED-LOCATION;VALUE=URI;X-ADDRESS=Heidestraße\, ggü 21\, Dr
 esden\, Sachsen\, 01127\, Deutschland;X-APPLE-RADIUS=100;X-TITLE=Alte Gär
 tnerei Pieschen:geo:51.083166,13.731081
END:VEVENT
BEGIN:VTIMEZONE
TZID:Europe/Berlin
X-LIC-LOCATION:Europe/Berlin
BEGIN:STANDARD
DTSTART:20201025T020000
TZOFFSETFROM:+0200
TZOFFSETTO:+0100
TZNAME:CET
END:STANDARD
END:VTIMEZONE
END:VCALENDAR