BEGIN:VCALENDAR
VERSION:2.0
PRODID:-//wp-events-plugin.com//6.4.6.4//EN
TZID:Europe/Berlin
X-WR-TIMEZONE:Europe/Berlin
BEGIN:VEVENT
UID:97@ufer-projekte.de
DTSTART;TZID=Europe/Berlin:20201211T160000
DTEND;TZID=Europe/Berlin:20201211T180000
DTSTAMP:20201208T125521Z
URL:https://ufer-projekte.de/veranstaltungen/offene-gartenzeit-2020-12-11/
SUMMARY:Offene Gartenzeit
ATTACH;FMTTYPE=image/jpeg:https://ufer-projekte.de/wp-content/uploads/2020
 /11/K1600_header_anga.jpg
CATEGORIES:Annengarten
LOCATION:Annengarten @ Neuer Annenfriedhof\, Kesselsdorfer Str. 29. Durch d
 en Haupteingang\, dann rechts halten.\, 01159 Dresden
GEO:51.042358;13.693325
X-APPLE-STRUCTURED-LOCATION;VALUE=URI;X-ADDRESS=Neuer Annenfriedhof\, Kesse
 lsdorfer Str. 29. Durch den Haupteingang\, dann rechts halten.\, Dresden\,
  Sachsen\, 01159\, Deutschland;X-APPLE-RADIUS=100;X-TITLE=Annengarten:geo:
 51.042358,13.693325
END:VEVENT
BEGIN:VTIMEZONE
TZID:Europe/Berlin
X-LIC-LOCATION:Europe/Berlin
BEGIN:STANDARD
DTSTART:20201025T020000
TZOFFSETFROM:+0200
TZOFFSETTO:+0100
TZNAME:CET
END:STANDARD
END:VTIMEZONE
END:VCALENDAR